BEGIN:VCALENDAR
VERSION:2.0
PRODID:-//Samlarförbundet Nordstjärnan - ECPv6.15.12.2//NONSGML v1.0//EN
CALSCALE:GREGORIAN
METHOD:PUBLISH
X-ORIGINAL-URL:https://www.samlarforbundet.se
X-WR-CALDESC:Händelser för Samlarförbundet Nordstjärnan
REFRESH-INTERVAL;VALUE=DURATION:PT1H
X-Robots-Tag:noindex
X-PUBLISHED-TTL:PT1H
BEGIN:VTIMEZONE
TZID:Europe/Stockholm
BEGIN:DAYLIGHT
TZOFFSETFROM:+0100
TZOFFSETTO:+0200
TZNAME:CEST
DTSTART:20250330T010000
END:DAYLIGHT
BEGIN:STANDARD
TZOFFSETFROM:+0200
TZOFFSETTO:+0100
TZNAME:CET
DTSTART:20251026T010000
END:STANDARD
BEGIN:DAYLIGHT
TZOFFSETFROM:+0100
TZOFFSETTO:+0200
TZNAME:CEST
DTSTART:20260329T010000
END:DAYLIGHT
BEGIN:STANDARD
TZOFFSETFROM:+0200
TZOFFSETTO:+0100
TZNAME:CET
DTSTART:20261025T010000
END:STANDARD
BEGIN:DAYLIGHT
TZOFFSETFROM:+0100
TZOFFSETTO:+0200
TZNAME:CEST
DTSTART:20270328T010000
END:DAYLIGHT
BEGIN:STANDARD
TZOFFSETFROM:+0200
TZOFFSETTO:+0100
TZNAME:CET
DTSTART:20271031T010000
END:STANDARD
END:VTIMEZONE
BEGIN:VEVENT
DTSTART;TZID=Europe/Stockholm:20260203T180000
DTEND;TZID=Europe/Stockholm:20260203T200000
DTSTAMP:20260419T172210
CREATED:20260217T122602Z
LAST-MODIFIED:20260217T122605Z
UID:9465-1770141600-1770148800@www.samlarforbundet.se
SUMMARY:Engelbrekt månadsmöte
DESCRIPTION:Månadsmöte då vi tar med egna intressanta eller speciellaföremål ur våra samlingar\, och berättar omdessa.
URL:https://www.samlarforbundet.se/handelse/engelbrekt-manadsmote/
CATEGORIES:Medlemsmöte
END:VEVENT
BEGIN:VEVENT
DTSTART;TZID=Europe/Stockholm:20260205T184500
DTEND;TZID=Europe/Stockholm:20260205T210000
DTSTAMP:20260419T172210
CREATED:20260217T101722Z
LAST-MODIFIED:20260217T101724Z
UID:9447-1770317100-1770325200@www.samlarforbundet.se
SUMMARY:Hans Brask: Årsmöte
DESCRIPTION:Hans Sävenhed berättar om att samla\, sälja och köpa vinyl.Semla till kaffet!
URL:https://www.samlarforbundet.se/handelse/hans-brask-arsmote/
CATEGORIES:Årsmöte
END:VEVENT
BEGIN:VEVENT
DTSTART;TZID=Europe/Stockholm:20260210T190000
DTEND;TZID=Europe/Stockholm:20260210T210000
DTSTAMP:20260419T172210
CREATED:20260217T121457Z
LAST-MODIFIED:20260217T121459Z
UID:9457-1770750000-1770757200@www.samlarforbundet.se
SUMMARY:Medlemsmöte Tre Rosor/ Örtugen
DESCRIPTION:Medlemsmöte
URL:https://www.samlarforbundet.se/handelse/medlemsmote-tre-rosor-ortugen/
CATEGORIES:Medlemsmöte
END:VEVENT
BEGIN:VEVENT
DTSTART;TZID=Europe/Stockholm:20260211T183000
DTEND;TZID=Europe/Stockholm:20260211T200000
DTSTAMP:20260419T172210
CREATED:20260217T093842Z
LAST-MODIFIED:20260222T131051Z
UID:9432-1770834600-1770840000@www.samlarforbundet.se
SUMMARY:Nordstjärnan Göteborg: ÅRSMÖTE!
DESCRIPTION:Överraskning! \n\n\n\nI kväll är det Pyes och Oves tur attpresentera några ting ur sina rika ochvarierande samlingar. Lotteri.
URL:https://www.samlarforbundet.se/handelse/arsmote/
END:VEVENT
BEGIN:VEVENT
DTSTART;TZID=Europe/Stockholm:20260223T183000
DTEND;TZID=Europe/Stockholm:20260223T203000
DTSTAMP:20260419T172210
CREATED:20260217T095323Z
LAST-MODIFIED:20260217T123923Z
UID:9439-1771871400-1771878600@www.samlarforbundet.se
SUMMARY:Sigtunaortens samlarförening: Gissa prylen!
DESCRIPTION:Gissa prylen!
URL:https://www.samlarforbundet.se/handelse/gissa-prylen/
END:VEVENT
BEGIN:VEVENT
DTSTART;TZID=Europe/Stockholm:20260224T190000
DTEND;TZID=Europe/Stockholm:20260224T210000
DTSTAMP:20260419T172210
CREATED:20260217T122203Z
LAST-MODIFIED:20260217T122205Z
UID:9462-1771959600-1771966800@www.samlarforbundet.se
SUMMARY:Skytteln. Månadsmöte
DESCRIPTION:Månadsmöte
URL:https://www.samlarforbundet.se/handelse/skytteln-manadsmote/
CATEGORIES:Medlemsmöte
END:VEVENT
BEGIN:VEVENT
DTSTART;TZID=Europe/Stockholm:20260228T100000
DTEND;TZID=Europe/Stockholm:20260228T150000
DTSTAMP:20260419T172210
CREATED:20260222T112015Z
LAST-MODIFIED:20260222T131151Z
UID:9491-1772272800-1772290800@www.samlarforbundet.se
SUMMARY:LEGO-event Hässleholm
DESCRIPTION:Kom och bygg lego i Gallerian den 28 februari\, kl 10.00-15.00. \n\n\n\n-Aktiviteter \n\n\n\n-Försäljning \n\n\n\n-Figurbyte \n\n\n\nGratis \n\n\n\nArrangör \n\n\n\nDestination Hässleholm
URL:https://www.samlarforbundet.se/handelse/lego-event-hassleholm/
CATEGORIES:Evenemang,Marknad
END:VEVENT
END:VCALENDAR