BEGIN:VCALENDAR
VERSION:2.0
PRODID:-//Samlarförbundet Nordstjärnan - ECPv6.15.12.2//NONSGML v1.0//EN
CALSCALE:GREGORIAN
METHOD:PUBLISH
X-WR-CALNAME:Samlarförbundet Nordstjärnan
X-ORIGINAL-URL:https://www.samlarforbundet.se
X-WR-CALDESC:Händelser för Samlarförbundet Nordstjärnan
REFRESH-INTERVAL;VALUE=DURATION:PT1H
X-Robots-Tag:noindex
X-PUBLISHED-TTL:PT1H
BEGIN:VTIMEZONE
TZID:Europe/Stockholm
BEGIN:DAYLIGHT
TZOFFSETFROM:+0100
TZOFFSETTO:+0200
TZNAME:CEST
DTSTART:20250330T010000
END:DAYLIGHT
BEGIN:STANDARD
TZOFFSETFROM:+0200
TZOFFSETTO:+0100
TZNAME:CET
DTSTART:20251026T010000
END:STANDARD
BEGIN:DAYLIGHT
TZOFFSETFROM:+0100
TZOFFSETTO:+0200
TZNAME:CEST
DTSTART:20260329T010000
END:DAYLIGHT
BEGIN:STANDARD
TZOFFSETFROM:+0200
TZOFFSETTO:+0100
TZNAME:CET
DTSTART:20261025T010000
END:STANDARD
BEGIN:DAYLIGHT
TZOFFSETFROM:+0100
TZOFFSETTO:+0200
TZNAME:CEST
DTSTART:20270328T010000
END:DAYLIGHT
BEGIN:STANDARD
TZOFFSETFROM:+0200
TZOFFSETTO:+0100
TZNAME:CET
DTSTART:20271031T010000
END:STANDARD
END:VTIMEZONE
BEGIN:VEVENT
DTSTART;TZID=Europe/Stockholm:20260305T080000
DTEND;TZID=Europe/Stockholm:20260305T200000
DTSTAMP:20260423T122308
CREATED:20260217T102040Z
LAST-MODIFIED:20260217T123810Z
UID:9449-1772697600-1772740800@www.samlarforbundet.se
SUMMARY:Hans Brask: Resa till Antikmässan\, Älvsjö
DESCRIPTION:Klubbens traditionsenliga bussresa till Älvsjö. Föranmälan till Anders.
URL:https://www.samlarforbundet.se/handelse/resa-till-antikmassan-alvsjo/
CATEGORIES:Antikmässa,Resa
END:VEVENT
END:VCALENDAR